Package: selectKSigs Version: 1.19.0 Command: rm -rf selectKSigs.buildbin-libdir && mkdir selectKSigs.buildbin-libdir && E:\biocbuild\bbs-3.21-bioc\R\bin\R.exe CMD INSTALL --build --library=selectKSigs.buildbin-libdir selectKSigs_1.19.0.tar.gz StartedAt: 2025-02-05 08:53:13 -0500 (Wed, 05 Feb 2025) EndedAt: 2025-02-05 08:54:00 -0500 (Wed, 05 Feb 2025) EllapsedTime: 47.0 seconds RetCode: 0 Status: OK PackageFile: selectKSigs_1.19.0.zip PackageFileSize: 726.3 KiB