Package: semisup Version: 1.31.0 Command: rm -rf semisup.buildbin-libdir && mkdir semisup.buildbin-libdir && /Users/biocbuild/BBS/utils/build-universal.sh semisup_1.31.0.tar.gz /Library/Frameworks/R.framework/Resources/bin/R semisup.buildbin-libdir StartedAt: 2025-02-09 22:30:39 -0500 (Sun, 09 Feb 2025) EndedAt: 2025-02-09 22:30:41 -0500 (Sun, 09 Feb 2025) EllapsedTime: 2.1 seconds RetCode: 0 Status: OK PackageFile: semisup_1.31.0.tgz PackageFileSize: 377.2 KiB