Package: semisup Version: 1.31.0 Command: /Library/Frameworks/R.framework/Resources/bin/R CMD INSTALL semisup StartedAt: 2025-02-09 15:02:04 -0500 (Sun, 09 Feb 2025) EndedAt: 2025-02-09 15:02:09 -0500 (Sun, 09 Feb 2025) EllapsedTime: 5.6 seconds RetCode: 0 Status: OK