Package: semisup Version: 1.31.0 Command: /home/biocbuild/R/R/bin/R CMD build --keep-empty-dirs --no-resave-data semisup StartedAt: 2025-01-29 02:16:53 -0000 (Wed, 29 Jan 2025) EndedAt: 2025-01-29 02:17:03 -0000 (Wed, 29 Jan 2025) EllapsedTime: 10.0 seconds RetCode: 0 Status: OK PackageFile: semisup_1.31.0.tar.gz PackageFileSize: 400.9 KiB