Package: semisup Version: 1.31.0 Command: /home/biocbuild/R/R/bin/R CMD check --install=check:semisup.install-out.txt --library=/home/biocbuild/R/R/site-library --no-vignettes --timings semisup_1.31.0.tar.gz StartedAt: 2025-01-28 15:12:31 -0000 (Tue, 28 Jan 2025) EndedAt: 2025-01-28 15:13:08 -0000 (Tue, 28 Jan 2025) EllapsedTime: 37.0 seconds RetCode: 0 Status: OK CheckDir: semisup.Rcheck Warnings: 0