Package: semisup Version: 1.31.0 Command: /home/biocbuild/R/R/bin/R CMD INSTALL semisup StartedAt: 2025-01-29 19:32:21 -0000 (Wed, 29 Jan 2025) EndedAt: 2025-01-29 19:32:49 -0000 (Wed, 29 Jan 2025) EllapsedTime: 27.6 seconds RetCode: 0 Status: OK