Package: semisup Version: 1.31.0 Command: rm -rf semisup.buildbin-libdir && mkdir semisup.buildbin-libdir && /Users/biocbuild/BBS/utils/build-universal.sh semisup_1.31.0.tar.gz /Library/Frameworks/R.framework/Resources/bin/R semisup.buildbin-libdir StartedAt: 2025-02-11 01:29:47 -0500 (Tue, 11 Feb 2025) EndedAt: 2025-02-11 01:29:53 -0500 (Tue, 11 Feb 2025) EllapsedTime: 5.8 seconds RetCode: 0 Status: OK PackageFile: semisup_1.31.0.tgz PackageFileSize: 376.7 KiB