Package: semisup Version: 1.31.0 Command: /Library/Frameworks/R.framework/Resources/bin/R CMD check --install=check:semisup.install-out.txt --library=/Library/Frameworks/R.framework/Resources/library --no-vignettes --timings semisup_1.31.0.tar.gz StartedAt: 2025-02-10 23:49:20 -0500 (Mon, 10 Feb 2025) EndedAt: 2025-02-10 23:50:04 -0500 (Mon, 10 Feb 2025) EllapsedTime: 44.6 seconds RetCode: 0 Status: OK CheckDir: semisup.Rcheck Warnings: 0