Package: semisup Version: 1.31.0 Command: /home/biocbuild/bbs-3.21-bioc/R/bin/R CMD build --keep-empty-dirs --no-resave-data semisup StartedAt: 2025-02-09 19:14:19 -0500 (Sun, 09 Feb 2025) EndedAt: 2025-02-09 19:14:28 -0500 (Sun, 09 Feb 2025) EllapsedTime: 9.0 seconds RetCode: 0 Status: OK PackageFile: semisup_1.31.0.tar.gz PackageFileSize: 306.5 KiB