Package: semisup Version: 1.31.0 Command: /home/biocbuild/bbs-3.21-bioc/R/bin/R CMD INSTALL semisup StartedAt: 2025-02-09 15:07:38 -0500 (Sun, 09 Feb 2025) EndedAt: 2025-02-09 15:08:15 -0500 (Sun, 09 Feb 2025) EllapsedTime: 36.8 seconds RetCode: 0 Status: OK