Package: semisup Version: 1.31.0 Command: E:\biocbuild\bbs-3.21-bioc\R\bin\R.exe CMD check --no-multiarch --install=check:semisup.install-out.txt --library=E:\biocbuild\bbs-3.21-bioc\R\library --no-vignettes --timings semisup_1.31.0.tar.gz StartedAt: 2025-02-10 05:20:28 -0500 (Mon, 10 Feb 2025) EndedAt: 2025-02-10 05:21:14 -0500 (Mon, 10 Feb 2025) EllapsedTime: 46.0 seconds RetCode: 0 Status: OK CheckDir: semisup.Rcheck Warnings: 0