Package: seqArchR Version: 1.11.0 Command: /Library/Frameworks/R.framework/Resources/bin/R CMD INSTALL seqArchR StartedAt: 2025-02-04 15:07:32 -0500 (Tue, 04 Feb 2025) EndedAt: 2025-02-04 15:07:38 -0500 (Tue, 04 Feb 2025) EllapsedTime: 6.5 seconds RetCode: 0 Status: OK