Package: seqArchR Version: 1.11.0 Command: /home/biocbuild/R/R/bin/R CMD build --keep-empty-dirs --no-resave-data seqArchR StartedAt: 2025-01-29 02:17:08 -0000 (Wed, 29 Jan 2025) EndedAt: 2025-01-29 02:18:07 -0000 (Wed, 29 Jan 2025) EllapsedTime: 59.1 seconds RetCode: 0 Status: OK PackageFile: seqArchR_1.11.0.tar.gz PackageFileSize: 3.988 MiB