Package: seqArchR Version: 1.11.0 Command: /home/biocbuild/R/R/bin/R CMD check --install=check:seqArchR.install-out.txt --library=/home/biocbuild/R/R/site-library --no-vignettes --timings seqArchR_1.11.0.tar.gz StartedAt: 2025-01-28 15:13:04 -0000 (Tue, 28 Jan 2025) EndedAt: 2025-01-28 15:15:46 -0000 (Tue, 28 Jan 2025) EllapsedTime: 162.2 seconds RetCode: 1 Status: ERROR CheckDir: seqArchR.Rcheck Warnings: NA