Package: seqArchR Version: 1.11.0 Command: /home/biocbuild/R/R/bin/R CMD INSTALL seqArchR StartedAt: 2025-01-29 19:44:59 -0000 (Wed, 29 Jan 2025) EndedAt: 2025-01-29 19:45:21 -0000 (Wed, 29 Jan 2025) EllapsedTime: 21.1 seconds RetCode: 0 Status: OK