Package: seqArchR Version: 1.11.0 Command: rm -rf seqArchR.buildbin-libdir && mkdir seqArchR.buildbin-libdir && /Users/biocbuild/BBS/utils/build-universal.sh seqArchR_1.11.0.tar.gz /Library/Frameworks/R.framework/Resources/bin/R seqArchR.buildbin-libdir StartedAt: 2025-02-10 01:16:02 -0500 (Mon, 10 Feb 2025) EndedAt: 2025-02-10 01:16:27 -0500 (Mon, 10 Feb 2025) EllapsedTime: 25.4 seconds RetCode: 0 Status: OK PackageFile: seqArchR_1.11.0.tgz PackageFileSize: 2.321 MiB