Package: seqArchR Version: 1.11.0 Command: /home/biocbuild/bbs-3.21-bioc/R/bin/R CMD check --install=check:seqArchR.install-out.txt --library=/home/biocbuild/bbs-3.21-bioc/R/site-library --timings seqArchR_1.11.0.tar.gz StartedAt: 2025-02-04 02:40:30 -0500 (Tue, 04 Feb 2025) EndedAt: 2025-02-04 02:44:51 -0500 (Tue, 04 Feb 2025) EllapsedTime: 261.4 seconds RetCode: 0 Status: OK CheckDir: seqArchR.Rcheck Warnings: 0