Package: seqArchR Version: 1.11.0 Command: E:\biocbuild\bbs-3.21-bioc\R\bin\R.exe CMD check --no-multiarch --install=check:seqArchR.install-out.txt --library=E:\biocbuild\bbs-3.21-bioc\R\library --no-vignettes --timings seqArchR_1.11.0.tar.gz StartedAt: 2025-02-10 05:21:39 -0500 (Mon, 10 Feb 2025) EndedAt: 2025-02-10 05:28:14 -0500 (Mon, 10 Feb 2025) EllapsedTime: 395.2 seconds RetCode: 0 Status: OK CheckDir: seqArchR.Rcheck Warnings: 0