Package: seqArchRplus Version: 1.7.0 Command: /Library/Frameworks/R.framework/Resources/bin/R CMD build --keep-empty-dirs --no-resave-data seqArchRplus StartedAt: 2025-02-04 17:36:09 -0500 (Tue, 04 Feb 2025) EndedAt: 2025-02-04 17:37:15 -0500 (Tue, 04 Feb 2025) EllapsedTime: 66.8 seconds RetCode: 0 Status: OK PackageFile: seqArchRplus_1.7.0.tar.gz PackageFileSize: 3.687 MiB