Package: seqArchRplus Version: 1.7.0 Command: /home/biocbuild/R/R/bin/R CMD check --install=check:seqArchRplus.install-out.txt --library=/home/biocbuild/R/R/site-library --no-vignettes --timings seqArchRplus_1.7.0.tar.gz StartedAt: 2025-01-28 15:13:08 -0000 (Tue, 28 Jan 2025) EndedAt: 2025-01-28 15:19:31 -0000 (Tue, 28 Jan 2025) EllapsedTime: 383.4 seconds RetCode: 0 Status: WARNINGS CheckDir: seqArchRplus.Rcheck Warnings: 1