Package: seqArchRplus Version: 1.7.0 Command: /Library/Frameworks/R.framework/Resources/bin/R CMD check --install=check:seqArchRplus.install-out.txt --library=/Library/Frameworks/R.framework/Resources/library --no-vignettes --timings seqArchRplus_1.7.0.tar.gz StartedAt: 2025-02-04 23:14:33 -0500 (Tue, 04 Feb 2025) EndedAt: 2025-02-04 23:20:40 -0500 (Tue, 04 Feb 2025) EllapsedTime: 367.4 seconds RetCode: 0 Status: WARNINGS CheckDir: seqArchRplus.Rcheck Warnings: 1