Package: seqArchRplus Version: 1.7.0 Command: /home/biocbuild/bbs-3.21-bioc/R/bin/R CMD build --keep-empty-dirs --no-resave-data seqArchRplus StartedAt: 2025-02-04 19:12:15 -0500 (Tue, 04 Feb 2025) EndedAt: 2025-02-04 19:14:56 -0500 (Tue, 04 Feb 2025) EllapsedTime: 161.3 seconds RetCode: 0 Status: OK PackageFile: seqArchRplus_1.7.0.tar.gz PackageFileSize: 2.962 MiB