Package: seqArchRplus Version: 1.7.0 Command: rm -rf seqArchRplus.buildbin-libdir && mkdir seqArchRplus.buildbin-libdir && E:\biocbuild\bbs-3.21-bioc\R\bin\R.exe CMD INSTALL --build --library=seqArchRplus.buildbin-libdir seqArchRplus_1.7.0.tar.gz StartedAt: 2025-02-05 08:53:43 -0500 (Wed, 05 Feb 2025) EndedAt: 2025-02-05 08:54:33 -0500 (Wed, 05 Feb 2025) EllapsedTime: 50.4 seconds RetCode: 0 Status: OK PackageFile: seqArchRplus_1.7.0.zip PackageFileSize: 1.868 MiB