Package: seqArchRplus Version: 1.7.0 Command: chmod a+r seqArchRplus -R && E:\biocbuild\bbs-3.21-bioc\R\bin\R.exe CMD build --keep-empty-dirs --no-resave-data seqArchRplus StartedAt: 2025-02-04 21:38:29 -0500 (Tue, 04 Feb 2025) EndedAt: 2025-02-04 21:42:12 -0500 (Tue, 04 Feb 2025) EllapsedTime: 223.7 seconds RetCode: 0 Status: OK PackageFile: seqArchRplus_1.7.0.tar.gz PackageFileSize: 1.762 MiB