Package: seqArchRplus Version: 1.7.0 Command: E:\biocbuild\bbs-3.21-bioc\R\bin\R.exe CMD INSTALL seqArchRplus StartedAt: 2025-02-04 16:54:39 -0500 (Tue, 04 Feb 2025) EndedAt: 2025-02-04 16:55:33 -0500 (Tue, 04 Feb 2025) EllapsedTime: 54.3 seconds RetCode: 0 Status: OK