Package: seqCAT Version: 1.29.0 Command: /home/biocbuild/bbs-3.21-bioc/R/bin/R CMD check --install=check:seqCAT.install-out.txt --library=/home/biocbuild/bbs-3.21-bioc/R/site-library --timings seqCAT_1.29.0.tar.gz StartedAt: 2025-02-10 02:34:58 -0500 (Mon, 10 Feb 2025) EndedAt: 2025-02-10 02:41:01 -0500 (Mon, 10 Feb 2025) EllapsedTime: 362.7 seconds RetCode: 0 Status: OK CheckDir: seqCAT.Rcheck Warnings: 0