Package: seqCAT Version: 1.29.0 Command: /home/biocbuild/bbs-3.21-bioc/R/bin/R CMD INSTALL seqCAT StartedAt: 2025-02-09 15:41:28 -0500 (Sun, 09 Feb 2025) EndedAt: 2025-02-09 15:42:05 -0500 (Sun, 09 Feb 2025) EllapsedTime: 37.9 seconds RetCode: 0 Status: OK