Package: seqCAT Version: 1.29.0 Command: chmod a+r seqCAT -R && E:\biocbuild\bbs-3.21-bioc\R\bin\R.exe CMD build --keep-empty-dirs --no-resave-data seqCAT StartedAt: 2025-02-12 21:42:53 -0500 (Wed, 12 Feb 2025) EndedAt: 2025-02-12 21:44:57 -0500 (Wed, 12 Feb 2025) EllapsedTime: 124.1 seconds RetCode: 0 Status: OK PackageFile: seqCAT_1.29.0.tar.gz PackageFileSize: 1.808 MiB