Package: seqLogo Version: 1.73.0 Command: /home/biocbuild/R/R/bin/R CMD build --keep-empty-dirs --no-resave-data seqLogo StartedAt: 2025-01-29 02:18:24 -0000 (Wed, 29 Jan 2025) EndedAt: 2025-01-29 02:18:34 -0000 (Wed, 29 Jan 2025) EllapsedTime: 10.0 seconds RetCode: 0 Status: OK PackageFile: seqLogo_1.73.0.tar.gz PackageFileSize: 868.1 KiB