Package: seqLogo Version: 1.73.0 Command: /home/biocbuild/R/R/bin/R CMD INSTALL seqLogo StartedAt: 2025-01-29 19:32:22 -0000 (Wed, 29 Jan 2025) EndedAt: 2025-01-29 19:32:50 -0000 (Wed, 29 Jan 2025) EllapsedTime: 27.9 seconds RetCode: 0 Status: OK