Package: seqLogo Version: 1.73.0 Command: rm -rf seqLogo.buildbin-libdir && mkdir seqLogo.buildbin-libdir && /Users/biocbuild/BBS/utils/build-universal.sh seqLogo_1.73.0.tar.gz /Library/Frameworks/R.framework/Resources/bin/R seqLogo.buildbin-libdir StartedAt: 2025-02-10 01:16:12 -0500 (Mon, 10 Feb 2025) EndedAt: 2025-02-10 01:16:19 -0500 (Mon, 10 Feb 2025) EllapsedTime: 6.9 seconds RetCode: 0 Status: OK PackageFile: seqLogo_1.73.0.tgz PackageFileSize: 863.3 KiB