Package: seqLogo Version: 1.73.0 Command: /Library/Frameworks/R.framework/Resources/bin/R CMD INSTALL seqLogo StartedAt: 2025-02-09 15:05:19 -0500 (Sun, 09 Feb 2025) EndedAt: 2025-02-09 15:05:53 -0500 (Sun, 09 Feb 2025) EllapsedTime: 33.8 seconds RetCode: 0 Status: OK