Package: seqLogo Version: 1.73.0 Command: /home/biocbuild/bbs-3.21-bioc/R/bin/R CMD check --install=check:seqLogo.install-out.txt --library=/home/biocbuild/bbs-3.21-bioc/R/site-library --timings seqLogo_1.73.0.tar.gz StartedAt: 2025-02-10 02:35:20 -0500 (Mon, 10 Feb 2025) EndedAt: 2025-02-10 02:35:43 -0500 (Mon, 10 Feb 2025) EllapsedTime: 23.0 seconds RetCode: 0 Status: OK CheckDir: seqLogo.Rcheck Warnings: 0