Package: seqLogo Version: 1.73.0 Command: rm -rf seqLogo.buildbin-libdir && mkdir seqLogo.buildbin-libdir && E:\biocbuild\bbs-3.21-bioc\R\bin\R.exe CMD INSTALL --build --library=seqLogo.buildbin-libdir seqLogo_1.73.0.tar.gz StartedAt: 2025-02-10 08:41:57 -0500 (Mon, 10 Feb 2025) EndedAt: 2025-02-10 08:42:09 -0500 (Mon, 10 Feb 2025) EllapsedTime: 12.7 seconds RetCode: 0 Status: OK PackageFile: seqLogo_1.73.0.zip PackageFileSize: 510.9 KiB