Package: seqLogo Version: 1.73.0 Command: E:\biocbuild\bbs-3.21-bioc\R\bin\R.exe CMD INSTALL seqLogo StartedAt: 2025-02-09 15:21:44 -0500 (Sun, 09 Feb 2025) EndedAt: 2025-02-09 15:21:52 -0500 (Sun, 09 Feb 2025) EllapsedTime: 7.5 seconds RetCode: 0 Status: OK