Package: seqTools Version: 1.41.0 Command: /Library/Frameworks/R.framework/Resources/bin/R CMD check --install=check:seqTools.install-out.txt --library=/Library/Frameworks/R.framework/Resources/library --no-vignettes --timings seqTools_1.41.0.tar.gz StartedAt: 2025-02-12 21:25:44 -0500 (Wed, 12 Feb 2025) EndedAt: 2025-02-12 21:25:57 -0500 (Wed, 12 Feb 2025) EllapsedTime: 13.2 seconds RetCode: 0 Status: WARNINGS CheckDir: seqTools.Rcheck Warnings: 4