Package: seqTools Version: 1.41.0 Command: /home/biocbuild/R/R/bin/R CMD INSTALL seqTools StartedAt: 2025-01-29 19:29:50 -0000 (Wed, 29 Jan 2025) EndedAt: 2025-01-29 19:30:09 -0000 (Wed, 29 Jan 2025) EllapsedTime: 18.6 seconds RetCode: 0 Status: OK