Package: seqTools Version: 1.41.0 Command: /Library/Frameworks/R.framework/Resources/bin/R CMD check --install=check:seqTools.install-out.txt --library=/Library/Frameworks/R.framework/Resources/library --no-vignettes --timings seqTools_1.41.0.tar.gz StartedAt: 2025-02-12 23:20:12 -0500 (Wed, 12 Feb 2025) EndedAt: 2025-02-12 23:20:46 -0500 (Wed, 12 Feb 2025) EllapsedTime: 34.3 seconds RetCode: 0 Status: WARNINGS CheckDir: seqTools.Rcheck Warnings: 4