Package: seqTools Version: 1.41.0 Command: /Library/Frameworks/R.framework/Resources/bin/R CMD INSTALL seqTools StartedAt: 2025-02-12 15:03:42 -0500 (Wed, 12 Feb 2025) EndedAt: 2025-02-12 15:04:14 -0500 (Wed, 12 Feb 2025) EllapsedTime: 32.1 seconds RetCode: 0 Status: OK