Package: seqTools Version: 1.41.0 Command: /home/biocbuild/bbs-3.21-bioc/R/bin/R CMD build --keep-empty-dirs --no-resave-data seqTools StartedAt: 2025-02-12 19:11:32 -0500 (Wed, 12 Feb 2025) EndedAt: 2025-02-12 19:11:45 -0500 (Wed, 12 Feb 2025) EllapsedTime: 13.0 seconds RetCode: 0 Status: OK PackageFile: seqTools_1.41.0.tar.gz PackageFileSize: 535.6 KiB