Package: seqTools Version: 1.41.0 Command: rm -rf seqTools.buildbin-libdir && mkdir seqTools.buildbin-libdir && E:\biocbuild\bbs-3.21-bioc\R\bin\R.exe CMD INSTALL --build --library=seqTools.buildbin-libdir seqTools_1.41.0.tar.gz StartedAt: 2025-02-10 08:42:12 -0500 (Mon, 10 Feb 2025) EndedAt: 2025-02-10 08:43:19 -0500 (Mon, 10 Feb 2025) EllapsedTime: 67.2 seconds RetCode: 0 Status: OK PackageFile: seqTools_1.41.0.zip PackageFileSize: 656.1 KiB