Package: seqTools Version: 1.41.0 Command: chmod a+r seqTools -R && E:\biocbuild\bbs-3.21-bioc\R\bin\R.exe CMD build --keep-empty-dirs --no-resave-data seqTools StartedAt: 2025-02-09 21:37:54 -0500 (Sun, 09 Feb 2025) EndedAt: 2025-02-09 21:39:22 -0500 (Sun, 09 Feb 2025) EllapsedTime: 87.8 seconds RetCode: 0 Status: OK PackageFile: seqTools_1.41.0.tar.gz PackageFileSize: 367.1 KiB