Package: seqcombo Version: 1.29.0 Command: /Library/Frameworks/R.framework/Resources/bin/R CMD build --keep-empty-dirs --no-resave-data seqcombo StartedAt: 2025-02-09 17:35:58 -0500 (Sun, 09 Feb 2025) EndedAt: 2025-02-09 17:36:04 -0500 (Sun, 09 Feb 2025) EllapsedTime: 6.1 seconds RetCode: 0 Status: OK PackageFile: seqcombo_1.29.0.tar.gz PackageFileSize: 1.191 MiB