Package: seqcombo Version: 1.29.0 Command: /Library/Frameworks/R.framework/Resources/bin/R CMD INSTALL seqcombo StartedAt: 2025-02-09 15:15:37 -0500 (Sun, 09 Feb 2025) EndedAt: 2025-02-09 15:15:50 -0500 (Sun, 09 Feb 2025) EllapsedTime: 12.8 seconds RetCode: 0 Status: OK