Package: seqcombo Version: 1.29.0 Command: /home/biocbuild/bbs-3.21-bioc/R/bin/R CMD INSTALL seqcombo StartedAt: 2025-02-04 15:06:46 -0500 (Tue, 04 Feb 2025) EndedAt: 2025-02-04 15:07:01 -0500 (Tue, 04 Feb 2025) EllapsedTime: 15.1 seconds RetCode: 0 Status: OK