Package: seqcombo Version: 1.29.0 Command: chmod a+r seqcombo -R && E:\biocbuild\bbs-3.21-bioc\R\bin\R.exe CMD build --keep-empty-dirs --no-resave-data seqcombo StartedAt: 2025-02-04 21:38:39 -0500 (Tue, 04 Feb 2025) EndedAt: 2025-02-04 21:39:02 -0500 (Tue, 04 Feb 2025) EllapsedTime: 23.8 seconds RetCode: 0 Status: OK PackageFile: seqcombo_1.29.0.tar.gz PackageFileSize: 686.6 KiB