Package: seqcombo Version: 1.29.0 Command: E:\biocbuild\bbs-3.21-bioc\R\bin\R.exe CMD check --no-multiarch --install=check:seqcombo.install-out.txt --library=E:\biocbuild\bbs-3.21-bioc\R\library --no-vignettes --timings seqcombo_1.29.0.tar.gz StartedAt: 2025-02-05 05:46:25 -0500 (Wed, 05 Feb 2025) EndedAt: 2025-02-05 05:47:06 -0500 (Wed, 05 Feb 2025) EllapsedTime: 40.8 seconds RetCode: 0 Status: OK CheckDir: seqcombo.Rcheck Warnings: 0