Package: seqcombo Version: 1.29.0 Command: E:\biocbuild\bbs-3.21-bioc\R\bin\R.exe CMD INSTALL seqcombo StartedAt: 2025-02-04 15:32:56 -0500 (Tue, 04 Feb 2025) EndedAt: 2025-02-04 15:33:10 -0500 (Tue, 04 Feb 2025) EllapsedTime: 14.1 seconds RetCode: 0 Status: OK