Package: seqsetvis Version: 1.27.2 Command: /home/biocbuild/R/R/bin/R CMD build --keep-empty-dirs --no-resave-data seqsetvis StartedAt: 2025-01-29 02:18:34 -0000 (Wed, 29 Jan 2025) EndedAt: 2025-01-29 02:20:27 -0000 (Wed, 29 Jan 2025) EllapsedTime: 113.1 seconds RetCode: 0 Status: OK PackageFile: seqsetvis_1.27.2.tar.gz PackageFileSize: 1.403 MiB