Package: seqsetvis Version: 1.27.2 Command: /home/biocbuild/R/R/bin/R CMD check --install=check:seqsetvis.install-out.txt --library=/home/biocbuild/R/R/site-library --no-vignettes --timings seqsetvis_1.27.2.tar.gz StartedAt: 2025-01-28 15:15:46 -0000 (Tue, 28 Jan 2025) EndedAt: 2025-01-28 15:28:58 -0000 (Tue, 28 Jan 2025) EllapsedTime: 792.0 seconds RetCode: 0 Status: OK CheckDir: seqsetvis.Rcheck Warnings: 0